BEGIN:VCALENDAR
VERSION:2.0
PRODID:-//ChamberMaster//Event Calendar 2.0//EN
METHOD:PUBLISH
X-PUBLISHED-TTL:P3D
REFRESH-INTERVAL:P3D
CALSCALE:GREGORIAN
BEGIN:VEVENT
DTSTART;VALUE=DATE:20200209
DTEND;VALUE=DATE:20200210
TRANSP:TRANSPARENT
X-MICROSOFT-CDO-ALLDAYEVENT:TRUE
SUMMARY:Bretton Woods Demo Day
DESCRIPTION:Join us for our Bretton Woods Demo Days this winter! At these demos\, skiers and riders will be able to test the newest gear from major brands such as Rossignol\, K-2 and Armada as well as local up and coming companies.
X-ALT-DESC;FMTTYPE=text/html:Join us for our Bretton Woods Demo Days this winter! At these demos\, skiers and riders will be able to test the newest gear from major brands such as Rossignol\, K-2 and Armada as well as local up and coming companies.<br />\n<!--EndFragment-->
LOCATION:Bretton Woods Ski Area
UID:e.2885.14967
SEQUENCE:3
DTSTAMP:20260423T100427Z
URL:https://business.littletonareachamber.com/events/details/bretton-woods-demo-day-02-09-2020-14967
END:VEVENT

END:VCALENDAR
