BEGIN:VCALENDAR
VERSION:2.0
PRODID:-//ChamberMaster//Event Calendar 2.0//EN
METHOD:PUBLISH
X-PUBLISHED-TTL:P3D
REFRESH-INTERVAL:P3D
CALSCALE:GREGORIAN
BEGIN:VEVENT
DTSTART:20200201T180000Z
DTEND:20200201T210000Z
X-MICROSOFT-CDO-ALLDAYEVENT:FALSE
SUMMARY:AUDITIONS - Urinetown the Musical
DESCRIPTION:Upstage Players is excited to announce that it will be holding auditions for its May production of the Tony award winning Urinetown the Musical.  Auditions will be held at the Littleton Opera House on Thursday\, January 30th from 6   8:30 pm and Saturday\, February 1st from 1 - 4 pm.  Callbacks to follow on the 1st as necessary.\n\n\n\nIn a Gotham-like city\, a terrible water shortage\, caused by a 20-year drought\, has led to a government-enforced ban on private toilets. The citizens must use public amenities\, regulated by a single malevolent company that profits by charging admission for one of humanity's most basic needs. Amid the people\, a hero decides that he's had enough and plans a revolution to lead them all to freedom!\n\n\n\nWinner of three Tony Awards\, three Outer Critics Circle Awards\, two Lucille Lortel Awards and two Obie Awards\, Urinetown is a hilarious musical satire of the legal system\, capitalism\, social irresponsibility\, populism\, bureaucracy\, corporate mismanagement\, municipal politics and musical theatre itself! Hilariously funny and touchingly honest\, Urinetown provides a fresh perspective on one of America's greatest art forms.\n\n\n\nInterested actors are asked to prepare a short song they know well\, preferably from musical theatre repertoire.  Please bring sheet music.  Singing with accompaniment preferred.  An accompanist will be provided.  Actors may be asked to do some movement and/or read from the script.  Come prepared to move.   \n\n\n\nUrinetown\, the Musical will be directed by Andrew Lidestri\, Artistic Director for Upstage Players\, choreographed by Madalyn Sheehy & Lidestri\, with music direction by Marie Snyder.  All roles are open and people of all ages and experience levels are encouraged to audition.  Full character breakdown is available on our website.  The show will rehearse and perform at the Littleton Opera House. \n\nRehearsals begin February 13 and will take place most Wednesday and Thursday evenings as well as Sunday afternoons.  Performance dates are May 8\,9\,10\,15\,16\,17  \n\n\n\nAny theater lovers not interested in being on stage but interested in working with set crews\, prop and tech production or costuming are encouraged to email us at upartistic@gmail.com.  Upstage Players is a welcoming community theatre excited to work with people of all levels of experience.\n\nFor more information\, please visit our Facebook page at www.facebook.com/upstageplayersnh\, our website at www.upstageplayersnh.org or contact Andrew Lidestri at upartistic@gmail.com.
X-ALT-DESC;FMTTYPE=text/html:<div style="background:#eee\; border:1px solid #ccc\; padding:5px 10px"><span style="font-size:14px"><span style="font-family:arial\,helvetica\,sans-serif">Upstage Players is excited to announce that it will be holding auditions for its May production of the Tony award winning <em>Urinetown the Musical</em>.&nbsp\; Auditions will be held at the Littleton Opera House on <strong>Thursday\, January 30th from 6 &ndash\; 8:30 pm</strong> and <strong>Saturday\, February 1<sup>st</sup> from 1 - 4 pm</strong>.&nbsp\; Callbacks to follow on the 1<sup>st</sup> as necessary.<br />\n<br />\nIn a Gotham-like city\, a terrible water shortage\, caused by a 20-year drought\, has led to a government-enforced ban on private toilets. The citizens must use public amenities\, regulated by a single malevolent company that profits by charging admission for one of humanity&#39\;s most basic needs. Amid the people\, a hero decides that he&#39\;s had enough and plans a revolution to lead them all to freedom!<br />\n<br />\nWinner of three Tony Awards\, three Outer Critics Circle Awards\, two Lucille Lortel Awards and two Obie Awards\, Urinetown is a hilarious musical satire of the legal system\, capitalism\, social irresponsibility\, populism\, bureaucracy\, corporate mismanagement\, municipal politics and musical theatre itself! Hilariously funny and touchingly honest\, Urinetown provides a fresh perspective on one of America&#39\;s greatest art forms.<br />\n<br />\n<strong>Interested actors are asked to prepare a short song they know well\, preferably from musical theatre repertoire.&nbsp\; Please bring sheet music.&nbsp\; Singing with accompaniment preferred.&nbsp\; An accompanist will be provided.&nbsp\; Actors may be asked to do some movement and/or read from the script.&nbsp\; Come prepared to move.&nbsp\; &nbsp\;</strong><br />\n<br />\n<em>Urinetown\, the Musical</em> will be directed by Andrew Lidestri\, Artistic Director for Upstage Players\, choreographed by Madalyn Sheehy &amp\; Lidestri\, with music direction by Marie Snyder.&nbsp\; All roles are open and people of all ages and experience levels are encouraged to audition. &nbsp\;Full character breakdown is available on our website.&nbsp\; <span style="color:black">The show will rehearse and perform at the Littleton Opera House.&nbsp\;<br />\nRehearsals begin February 13 and will take place most Wednesday and Thursday evenings as well as Sunday afternoons.&nbsp\; Performance dates are May 8\,9\,10\,15\,16\,17&nbsp\; </span><br />\n<br />\n<span style="color:black">Any theater lovers not interested in being on stage but interested in working with set crews\, prop and tech production or costuming are encouraged to email us at </span><a href="mailto:upartistic@gmail.com">upartistic@gmail.com</a><span style="color:black">. &nbsp\;Upstage Players is a welcoming community theatre excited to work with people of all levels of experience.</span><br />\n<span style="color:black">For more information\, please visit our Facebook page at </span><a href="http://www.facebook.com/upstageplayersnh">www.facebook.com/upstageplayersnh</a><span style="color:black">\, our website at </span><a href="http://www.upstageplayersnh.org/">www.upstageplayersnh.org</a><span style="color:black"> or contact Andrew Lidestri at </span><a href="mailto:upartistic@gmail.com">upartistic@gmail.com</a><span style="color:black">.</span></span></span><br />\n<br />\n&nbsp\;</div>\n
LOCATION:The Littleton Opera House
UID:e.2885.15403
SEQUENCE:3
DTSTAMP:20260423T100321Z
URL:https://business.littletonareachamber.com/events/details/auditions-urinetown-the-musical-02-01-2020-15403
END:VEVENT

END:VCALENDAR
