BEGIN:VCALENDAR
VERSION:2.0
PRODID:-//ChamberMaster//Event Calendar 2.0//EN
METHOD:PUBLISH
X-PUBLISHED-TTL:P3D
REFRESH-INTERVAL:P3D
CALSCALE:GREGORIAN
BEGIN:VEVENT
DTSTART:20200301T020000Z
DTEND:20200301T045500Z
X-MICROSOFT-CDO-ALLDAYEVENT:FALSE
SUMMARY:Alburrito's presents LIVE WITH THE VAN BURENS
DESCRIPTION:The Van Burens are back at your favorite Mexican restaurant/live music venue for a very special once-every-four-years night of music\, mischief\, and mayhem. The blue moon is risen! $10 tickets - advanced or at the door!
X-ALT-DESC;FMTTYPE=text/html:<span style="color:rgb(29\, 33\, 41)\; font-family:helvetica\,arial\,sans-serif\; font-size:14px">The Van Burens are back at your favorite Mexican restaurant/live music venue for a very special once-every-four-years night of music\, mischief\, and mayhem. The blue moon is risen! $10 tickets - advanced or at the door!</span>
LOCATION:106 Main St Littleton\, NH 03561 Right inside Parker's Market Place
UID:e.2885.15653
SEQUENCE:3
DTSTAMP:20260423T100158Z
URL:https://business.littletonareachamber.com/events/details/alburrito-s-presents-live-with-the-van-burens-15653
END:VEVENT

END:VCALENDAR
