BEGIN:VCALENDAR
VERSION:2.0
PRODID:-//ChamberMaster//Event Calendar 2.0//EN
METHOD:PUBLISH
X-PUBLISHED-TTL:P3D
REFRESH-INTERVAL:P3D
CALSCALE:GREGORIAN
BEGIN:VEVENT
DTSTART:20200215T010000Z
DTEND:20200215T040000Z
X-MICROSOFT-CDO-ALLDAYEVENT:FALSE
SUMMARY:ALBURRITO'S PRESENTS LIVE WITH Cause & Effect
DESCRIPTION:WHOA! Do we have a night planned for you! Love birds or singles - we have the fabulously talented CAUSE & EFFECT with us on this night! WE have dinner specials\, drink specials\, dessert and we're even trying out a special menu for our Chef's Tables. Come on out and have a great night. Cause & Effect will be here starting at 8 pm.
X-ALT-DESC;FMTTYPE=text/html:<span style="color:rgb(29\, 33\, 41)\; font-family:helvetica\,arial\,sans-serif\; font-size:14px">WHOA! Do we have a night planned for you! Love birds or singles - we have the fabulously talented CAUSE &amp\; EFFECT with us on this night! WE have dinner specials\, drink specials\, dessert and we&#39\;re even trying out a special menu for our Chef&#39\;s Tables. Come on out and have a great night. Cause &amp\; Effect will be here starting at 8 pm. </span>
LOCATION:106 Main St Littleton\, NH 03561 Inside of Parker's Market Place
UID:e.2885.15662
SEQUENCE:3
DTSTAMP:20260423T100254Z
URL:https://business.littletonareachamber.com/events/details/alburrito-s-presents-live-with-cause-effect-15662
END:VEVENT

END:VCALENDAR
