BEGIN:VCALENDAR
VERSION:2.0
PRODID:-//ChamberMaster//Event Calendar 2.0//EN
METHOD:PUBLISH
X-PUBLISHED-TTL:P3D
REFRESH-INTERVAL:P3D
CALSCALE:GREGORIAN
BEGIN:VEVENT
DTSTART;VALUE=DATE:20200202
DTEND;VALUE=DATE:20200203
TRANSP:TRANSPARENT
X-MICROSOFT-CDO-ALLDAYEVENT:TRUE
SUMMARY:$54 Lift Tickets for The Big Game
DESCRIPTION:Ski or ride for $54 before cheering on your favorite team or rally a Nordic team of four and get four trail passes for $54!
X-ALT-DESC;FMTTYPE=text/html:Ski or ride for $54 before cheering on your favorite team or rally a Nordic team of four and get four trail passes for $54!
LOCATION:Bretton Woods Ski Area
UID:e.2885.15180
SEQUENCE:3
DTSTAMP:20260423T100416Z
URL:https://business.littletonareachamber.com/events/details/54-lift-tickets-for-the-big-game-15180
END:VEVENT

END:VCALENDAR
