BEGIN:VCALENDAR
VERSION:2.0
PRODID:-//ChamberMaster//Event Calendar 2.0//EN
METHOD:PUBLISH
X-PUBLISHED-TTL:P3D
REFRESH-INTERVAL:P3D
CALSCALE:GREGORIAN
BEGIN:VEVENT
DTSTART:20240309T120000Z
DTEND:20240309T220000Z
X-MICROSOFT-CDO-ALLDAYEVENT:FALSE
SUMMARY:47th Annual Mount Washington Cup
DESCRIPTION:SATURDAY MARCH 9\, 2024\n\nJoin us for this 47th annual 10k Freestyle (skate ski) Race\, which is part of the ZAK Cup Series. Located on the grounds of the historic Mount Washington Hotel and the White Mountain National Forest\, the Bretton Woods Nordic Center is one of the largest cross-country areas in the East. The 100-km trail network crosses open fields\, meanders through woods of spruce and fir\, passes beaver ponds and mountain streams\, and traverses open hardwood stands. Please call the Bretton Woods Nordic Center at 603-278-3322 for more information.
X-ALT-DESC;FMTTYPE=text/html:<h2>SATURDAY MARCH 9\, 2024</h2>\n\n<p>Join us for this 47th annual 10k Freestyle (skate ski) Race\, which is part of the ZAK Cup Series. Located on the grounds of the historic Mount Washington Hotel and the White Mountain National Forest\, the Bretton Woods Nordic Center is one of the largest cross-country areas in the East. The 100-km trail network crosses open fields\, meanders through woods of spruce and fir\, passes beaver ponds and mountain streams\, and traverses open hardwood stands.&nbsp\;Please call the Bretton Woods Nordic Center at 603-278-3322 for more information.</p>\n
LOCATION:Bretton Woods Nordic Center 210 Mt Washington Hotel Road Bretton Woods\, NH 03575
UID:e.2885.19657
SEQUENCE:3
DTSTAMP:20260419T144928Z
URL:https://business.littletonareachamber.com/events/details/47th-annual-mount-washington-cup-19657
END:VEVENT

END:VCALENDAR
