BEGIN:VCALENDAR
VERSION:2.0
PRODID:-//ChamberMaster//Event Calendar 2.0//EN
METHOD:PUBLISH
X-PUBLISHED-TTL:P3D
REFRESH-INTERVAL:P3D
CALSCALE:GREGORIAN
BEGIN:VEVENT
DTSTART:20200307T123000Z
DTEND:20200307T163000Z
X-MICROSOFT-CDO-ALLDAYEVENT:FALSE
SUMMARY:46th Annual Mount Washington Cup XC Ski Race
DESCRIPTION:Join us for this 46th annual 10k Freestyle (skate ski) Race\, which is part of the ZAK Cup Series. Located on the grounds of the historic Mount Washington Hotel and the White Mountain National Forest\, the Bretton Woods Nordic Center is one of the largest cross country areas in the East. The 100-km trail network crosses open fields\, meanders through woods of spruce and fir\, passes beaver ponds and mountain streams\, and traverses open hardwood stands.\n\nPlease call the Bretton Woods Nordic Center at 603-278-3322 for more information. Online registration deadline is March 6\, 2020.
X-ALT-DESC;FMTTYPE=text/html:<!--StartFragment-->\n<p style="text-align:start">Join us for this 46th annual 10k Freestyle (skate ski) Race\, which is part of the ZAK Cup Series. Located on the grounds of the historic Mount Washington Hotel and the White Mountain National Forest\, the Bretton Woods Nordic Center is one of the largest cross country areas in the East. The 100-km trail network crosses open fields\, meanders through woods of spruce and fir\, passes beaver ponds and mountain streams\, and traverses open hardwood stands.</p>\n\n<p style="text-align:start"><strong>Please call the Bretton Woods Nordic Center at 603-278-3322 for more information. Online registration deadline is March 6\, 2020.</strong></p>\n<!--EndFragment-->
LOCATION:Bretton Woods Nordic Center
UID:e.2885.15191
SEQUENCE:3
DTSTAMP:20260423T114506Z
URL:https://business.littletonareachamber.com/events/details/46th-annual-mount-washington-cup-xc-ski-race-15191
END:VEVENT

END:VCALENDAR
