BEGIN:VCALENDAR
VERSION:2.0
PRODID:-//ChamberMaster//Event Calendar 2.0//EN
METHOD:PUBLISH
X-PUBLISHED-TTL:P3D
REFRESH-INTERVAL:P3D
CALSCALE:GREGORIAN
BEGIN:VEVENT
DTSTART:20230720T184500Z
DTEND:20230720T220000Z
X-MICROSOFT-CDO-ALLDAYEVENT:FALSE
SUMMARY:2023 Ladies Social Golf Group - 9 and Wine
DESCRIPTION:Welcome to the 2023 Ladies Social Golf Group at Bretton Woods Golf Course! This 9 and Wine league is a fun and friendly group of ladies who love to get together for some golfing fun. We meet and golf together every week on Thursday nights\, kicking off each week with weekly golf tips from the golf staff starting at 2:45pm. Tee times for 9 holes begin at 3pm. Then meet in the Golf Grille from 5pm-6pm for a cash bar. With our amazing course\, you can be sure to have an enjoyable evening out with your friends\, so come join us today for some laughs\, camaraderie\, and great golf!
X-ALT-DESC;FMTTYPE=text/html:<span style="color:rgb(30\, 41\, 59)\; font-family:source sans pro\,sans-serif\; font-size:15px">Welcome to the 2023 Ladies Social Golf Group at Bretton Woods Golf Course! This 9 and Wine league is a fun and friendly group of ladies who love to get together for some golfing fun. We meet and golf together every week on Thursday nights\, kicking off each week with weekly golf tips from the golf staff starting at 2:45pm. Tee times for 9 holes begin at 3pm. Then meet in the Golf Grille from 5pm-6pm for a cash bar. With our amazing course\, you can be sure to have an enjoyable evening out with your friends\, so come join us today for some laughs\, camaraderie\, and great golf!</span>
LOCATION:Omni Mount Washington Golf Course 210 Mt. Washington Hotel Road Bretton Woods\, NH 03575 Golf: (603) 278 - 4653
UID:e.2885.19527
SEQUENCE:3
DTSTAMP:20260421T112753Z
URL:https://business.littletonareachamber.com/events/details/2023-ladies-social-golf-group-9-and-wine-07-20-2023-19527
END:VEVENT

END:VCALENDAR
