BEGIN:VCALENDAR
VERSION:2.0
PRODID:-//ChamberMaster//Event Calendar 2.0//EN
METHOD:PUBLISH
X-PUBLISHED-TTL:P3D
REFRESH-INTERVAL:P3D
CALSCALE:GREGORIAN
BEGIN:VEVENT
DTSTART;VALUE=DATE:20200623
DTEND;VALUE=DATE:20200626
TRANSP:TRANSPARENT
X-MICROSOFT-CDO-ALLDAYEVENT:TRUE
SUMMARY:2020 Governor’s Conference on Volunteerism
DESCRIPTION:Volunteer NH hosts the annual Governor's Conference on Volunteerism in partnership with the Governor's office. The purpose of the conference is to educate\, enhance skills\, and provide professional development that will support and strengthen New Hampshire's volunteer programs and organizations.
X-ALT-DESC;FMTTYPE=text/html:Volunteer NH hosts the annual Governor&rsquo\;s Conference on Volunteerism in partnership with the Governor&rsquo\;s office. The purpose of the conference is to educate\, enhance skills\, and provide professional development that will support and strengthen New Hampshire&rsquo\;s volunteer programs and organizations.
LOCATION:Due to safety restrictions related to COVID-19\, this event will be 100% virtual in 2020
UID:e.2885.17183
SEQUENCE:3
DTSTAMP:20260423T155125Z
URL:https://business.littletonareachamber.com/events/details/2020-governor-s-conference-on-volunteerism-17183
END:VEVENT

END:VCALENDAR
